BEGIN:VCALENDAR
VERSION:2.0
PRODID:-//WISPM Grouped Soul - ECPv6.15.10//NONSGML v1.0//EN
CALSCALE:GREGORIAN
METHOD:PUBLISH
X-ORIGINAL-URL:https://wispmgroupedsoul.org
X-WR-CALDESC:Events for WISPM Grouped Soul
REFRESH-INTERVAL;VALUE=DURATION:PT1H
X-Robots-Tag:noindex
X-PUBLISHED-TTL:PT1H
BEGIN:VTIMEZONE
TZID:UTC
BEGIN:STANDARD
TZOFFSETFROM:+0000
TZOFFSETTO:+0000
TZNAME:UTC
DTSTART:20240101T000000
END:STANDARD
END:VTIMEZONE
BEGIN:VEVENT
DTSTART;TZID=UTC:20250920T100000
DTEND;TZID=UTC:20250920T170000
DTSTAMP:20260419T150043
CREATED:20250918T172956Z
LAST-MODIFIED:20260103T142112Z
UID:2735-1758362400-1758387600@wispmgroupedsoul.org
SUMMARY:2025 National Sacred Seminar
DESCRIPTION:Laying Aside the World – Putting on Christ\nRomans. 13:12-14 \n  \nPost Event Report:\nThe 2025 National Sacred Choir Seminar\, themed “Laying Aside the World\, Putting on Christ” (Romans 13:12–14)\, was held on Saturday\, September 20th\, 2025\, via the Zoom platform from 10:00 AM to 1:00 PM (WAT).\nThe impactful session was anchored by Sister Edith Ayalogu and featured spirit-filled teachings\, prayers\, and musical enlightenment. \nThe seminar opened with hymn SS&S 329 and an opening prayer led by the Inspirer of the Day\, Brother Christian Nwabueze\, followed by a warm welcome address from the National Song Leader.  \nKey sessions included: \nSummary of the 2025 National Sacred Choir Seminar \nThe 2025 National Sacred Choir Seminar\, themed “Laying Aside the World\, Putting on Christ” (Romans 13:12–14)\, was held on Saturday\, September 20th\, 2025\, via the Zoom platform from 10:00 AM to 1:00 PM (WAT). The impactful session was anchored by Sister Edith Ayalogu and featured spirit-filled teachings\, prayers\, and musical enlightenment. \nThe seminar opened with hymn SS&S 329 and an opening prayer led by the Inspirer of the Day\, Brother Christian Nwabueze\, followed by a warm welcome address from the National Song Leader. \n  \nKey sessions included: \n\nTrue Repentance – A Call from the Saviour to Every Member of the Sacred Choir\, by Elder Gboun Mike\, emphasizing that a chorister is first a child of God and must live in holiness and repentance to remain fruitful in service.\nHumility as a Virtue\, by Sister Chioma Ojieji\, urging choristers to emulate Christ’s humility as a foundation for unity\, growth\, and spiritual excellence.\nThe Priestly Role of the Sacred Choir\, by Brother Wassco Giddo\, who defined the choir’s sacred calling as priestly\, noting that sanctification is essential since the choir uniquely bears the title “Sacred.”\nHour of Prayer\, led by Brother Christian Nwabueze\, followed by a deep spiritual atmosphere of worship through hymn SS&S 606.\n\nThe final teaching\, “Hymnals and Sacred Choruses: Their Relationship\, Functions\, and Spiritual Purpose in Worship”\, by National Song Leader Brother Jude Sylva\, explored the proper use of chants\, hymns\, and choruses\, illustrating their roles in worship with practical examples. \nOverall\, the seminar was a powerful time of renewal\, reminding all Sacred Choir members of their divine calling to live holy\, serve faithfully\, and reflect Christ both in song and in life. The seminar concluded with a Vote of Thanks by Sister Benedicta Aigiomawu and a closing hymn (SS&S 332)\, followed by a heartfelt closing prayer and blessing by inspirer for of day- Brother Christian Nwabueze at 12:58 PM. \nAttendance : over 300 Participants attended the Seminar which included virtual and physical participants \n 
URL:https://wispmgroupedsoul.org/event/2025-national-sacred-seminar/
LOCATION:Zonal Organs\, Zonal Organs\, Nigeria
CATEGORIES:Choir
ATTACH;FMTTYPE=image/jpeg:https://wispmgroupedsoul.org/wp-content/uploads/2025/09/1.jpg
END:VEVENT
END:VCALENDAR